BEGIN:VCALENDAR
VERSION:2.0
PRODID:-//MIT Game Lab - ECPv4.9.0//NONSGML v1.0//EN
CALSCALE:GREGORIAN
METHOD:PUBLISH
X-WR-CALNAME:MIT Game Lab
X-ORIGINAL-URL:http://gamelab.mit.edu
X-WR-CALDESC:Events for MIT Game Lab
BEGIN:VEVENT
DTSTART;TZID=America/New_York:20170126T100000
DTEND;TZID=America/New_York:20170126T120000
DTSTAMP:20260425T210937
CREATED:20170110T170428Z
LAST-MODIFIED:20170110T170428Z
UID:3111-1485424800-1485432000@gamelab.mit.edu
SUMMARY:What Playfulness Can Change: "Playfulness and Your Team"
DESCRIPTION:Part of a serious of workshops about exploring playfulness and its business applications.  \nPlayfulness is a very human value proposition that empowers people doing all kind of things. In this class\, I’m offering to discover the Playful and all its possibilities: From the empowerment of your employees\, your processes or your learning\, the Playful design methodology can be a real leverage of empowerment.   \nPlayfulness and Your Team \n We’ll see how to use playfulness in a team. How can you empower them using playful levers? Together\, we’ll practice by taking examples and try to use the playful design methodology to do this. We’ll choose together practical use cases you can encounter in your daily routines at work and try to make a change in order to make them more playful! \nThe class is open for all and divided in 3 workshops that are independent from each other but you are encouraged to follow all of them to have a better overview!  \nTo attend\, contact: Laure Dousset\, +33681756009\, LDOUSSET@MIT.EDU \n
URL:http://gamelab.mit.edu/event/what-playfulness-can-change-playfulness-and-your-team/
LOCATION:CMS/W E15-315\, 20 Ames St\, Cambridge\, MA\, 02142\, United States
GEO:42.3606587;-71.0874649
X-APPLE-STRUCTURED-LOCATION;VALUE=URI;X-ADDRESS=CMS/W E15-315 20 Ames St Cambridge MA 02142 United States;X-APPLE-RADIUS=500;X-TITLE=20 Ames St:geo:-71.0874649,42.3606587
CATEGORIES:Workshop
ATTACH;FMTTYPE=image/png:http://gamelab.mit.edu/wp/wp-content/uploads/2017/01/whatplayfulnesscanchange_IAP-copy.png
ORGANIZER;CN="Laure%20Dousset":MAILTO:LDOUSSET@MIT.EDU
END:VEVENT
END:VCALENDAR