BEGIN:VCALENDAR
VERSION:2.0
PRODID:-//MIT Game Lab - ECPv4.9.0//NONSGML v1.0//EN
CALSCALE:GREGORIAN
METHOD:PUBLISH
X-WR-CALNAME:MIT Game Lab
X-ORIGINAL-URL:http://gamelab.mit.edu
X-WR-CALDESC:Events for MIT Game Lab
BEGIN:VEVENT
DTSTART;TZID=America/New_York:20140616T193000
DTEND;TZID=America/New_York:20140616T213000
DTSTAMP:20260420T125814
CREATED:20140529T194208Z
LAST-MODIFIED:20140604T173230Z
UID:2423-1402947000-1402954200@gamelab.mit.edu
SUMMARY:Playtest Best Practices Workshop
DESCRIPTION:RSVP for this with the Game Maker’s Guild via Meetup\nRSVP \nThe workshop will have both a theoretical and a practical component and will cover the following subtopics as well: \n• Processing tester feedback \n• Being the best tester you can be \nContents \nIn this workshop\, MIT Game Lab design staff Sara Verrilli and Rik Eberhardt will walk participants through best practices for getting useful data and feedback during board game playtest sessions.  \nConcepts covered include how to be a ‘good’ tester (as a game designer and as a ‘naive’ player)\, how to interact with your testers\, and how to best analyze feedback received from testers.  \nBring a Game \nParticipants are asked to bring in a game to use for exercises during the workshop and be prepared to set it up and explain it to a naive tester in 5 minutes. Each game will be tested for the first 15-30 minutes of gameplay (depending on number of games brought). Participants will be challenged to both run a playtest on their game as well as give feedback to other games using the methods discussed in the workshop.  \nInstructor Bios  \nSara Verrilli has spent her professional career in the videogame industry\, starting with the day she walked out of MIT’s Course V graduate studies and into a position as QA Lead at Looking Glass Technologies for System Shock. However\, her game organizing endeavors started much earlier; she helped found a role-playing club at her high school by disguising it as a bridge group. Since then\, she’s been a game designer\, a product manager\, a producer\, and a QA manager\, in no particular order. A veteran of both Looking Glass Technologies and Irrational Games\, she’s worked on eight major published games\, and several more that never made it out the door. As Development Director of the MIT Game Lab\, she looks forward to corralling\, encouraging\, and exploring the creative chaos that goes into making great games\, and figuring out just the right amount of order to inject into the process. And\, while she still doesn’t understand bridge\, she does enjoy whist.  \nAs Studio Manager for the MIT Game Lab\, Rik Eberhardt spends his days playing Tetris: with people\, boxes\, tasklists\, equipment\, money\, and time. When not staring at a spreadsheet trying to fit in another computer purchase\, a last minute event budget\, or placing undergraduate researchers on a Game Lab project\, he’s chipping away at spreadsheets on his DS\, reproducing pixel-art in Picross and Picross 3D\, or managing the ultimate spreadsheet\, a game of Sid Meier’s Civilization. He is also an instructor for two MIT Game Lab classes on game production and has served as a mentor and director for multiple game development projects including ‘elude’\, a game about depression produced in the summer of 2010. He holds a Bachelor of Arts degree from the College of William & Mary\, is a Certified Scrum Master\, a PMI Agile Certified Practitioner\, and is currently working towards a Serious Games MA Certificate from Michigan State University. \nLocation Info: \n160 Boylston St\, Boston\, MA 02116\n1) You already have the address\, but it’s right next to the Steinway Piano sign\, above the antique shop. \n2) Ring the bell for floor four. It is marked “Emerson” on a hand-written tab. \n3) Walk to the back and take the elevator to the 4th floor. The elevator is old\, slow\, and creepy but rest assured it does work. \n4) Welcome to the Engagement Game Lab space! \nIf you have any questions or if you have any trouble getting in\, feel free to call or text us at: \nSam: 978-828-1728\nAerjen: 781-866-1237  \nRSVP for this with the Game Maker’s Guild via Meetup\nRSVP \n\n!function(d\,s\,id){var js\,fjs=d.getElementsByTagName(s)[0];if(!d.getElementById(id)){js=d.createElement(s); js.id=id;js.async=true;js.src="https://secure.meetup.com/script/21021123101537681383/api/mu.btns.js?id=kg9e2q2v0528f3vu7fqrg8nrbc";fjs.parentNode.insertBefore(js\,fjs);}}(document\,"script"\,"mu-bootjs");\n\n
URL:http://gamelab.mit.edu/event/2423/
LOCATION:Engagement Game Lab\, 160 Boylston St\, Boston\, MA\, 02116\, United States
GEO:42.352264;-71.066684
X-APPLE-STRUCTURED-LOCATION;VALUE=URI;X-ADDRESS=Engagement Game Lab 160 Boylston St Boston MA 02116 United States;X-APPLE-RADIUS=500;X-TITLE=160 Boylston St:geo:-71.066684,42.352264
CATEGORIES:Workshop
END:VEVENT
END:VCALENDAR